BEGIN:VCALENDAR
VERSION:2.0
PRODID:-//Auctioneer Insurance - ECPv5.5.0//NONSGML v1.0//EN
CALSCALE:GREGORIAN
METHOD:PUBLISH
X-WR-CALNAME:Auctioneer Insurance
X-ORIGINAL-URL:https://auctioneerinsurance.com
X-WR-CALDESC:Events for Auctioneer Insurance
BEGIN:VTIMEZONE
TZID:America/New_York
BEGIN:DAYLIGHT
TZOFFSETFROM:-0500
TZOFFSETTO:-0400
TZNAME:EDT
DTSTART:20170312T070000
END:DAYLIGHT
BEGIN:STANDARD
TZOFFSETFROM:-0400
TZOFFSETTO:-0500
TZNAME:EST
DTSTART:20171105T060000
END:STANDARD
END:VTIMEZONE
BEGIN:VEVENT
DTSTART;TZID=America/New_York:20171211T080000
DTEND;TZID=America/New_York:20171215T170000
DTSTAMP:20260419T051441
CREATED:20171003T151501Z
LAST-MODIFIED:20171003T152041Z
UID:1746-1512979200-1513357200@auctioneerinsurance.com
SUMMARY:Test Event Title
DESCRIPTION:Pellentesque eleifend nulla sed est aliquam\, in pretium lectus tincidunt. Pellentesque sed enim enim. Nullam placerat mattis dui eu cursus. Praesent dignissim ipsum tincidunt tortor congue\, vitae dapibus ipsum tristique. Suspendisse vitae sem ac neque eleifend vehicula ac ut turpis. Duis placerat magna at purus sodales\, vel eleifend dui porta. In eget justo eu nibh maximus accumsan.
URL:https://auctioneerinsurance.com/seminars/test-event-title/
LOCATION:Bell MTS Center\, 345 Graham Ave\, Winnipeg\, Manitoba\, R3C 5S6\, Canada
END:VEVENT
END:VCALENDAR